BEGIN:VCALENDAR
VERSION:2.0
PRODID:SchoolNow
CALSCALE:GREGORIAN
BEGIN:VEVENT
UID:2050ab44-8a73-11f0-bcd2-0a58a9feac02
DTSTAMP:20251017T213438Z
SUMMARY:CDD Board Meeting - Oct. 2025 - Cancelled
LOCATION:Rivington Recreation Center 833 Terrapin Drive DeBary\, FL 32713
URL;VALUE=URI:https://www.rivingtoncdd.org/calendar/8584819/cdd-board-meeti
 ng-oct-2025
DTSTART:20251022T153000Z
DTEND:20251022T163000Z
ATTACH;FILENAME=2025-10-22 RIVINGTON CDD AGENDA PACKAGE.pdf;FMTTYPE=applica
 tion/pdf:https://campussuite-storage.s3.amazonaws.com/prod/1559088/c4df041
 8-3107-11ec-897a-02f95f1c9203/3021433/c64f85e0-a9e7-11f0-88bf-0a58a9feac02
 /file/2025-10-22 RIVINGTON CDD AGENDA PACKAGE.pdf
END:VEVENT
END:VCALENDAR
