BEGIN:VCALENDAR
VERSION:2.0
PRODID:SchoolNow
CALSCALE:GREGORIAN
BEGIN:VEVENT
UID:c42a8858-4c60-11f0-813a-0ef924d70cdd
DTSTAMP:20250827T144603Z
SUMMARY:Public Hearing  - Aug. 2025
LOCATION:Rivington Recreation Center 833 Terrapin Drive DeBary\, FL 32713
URL;VALUE=URI:https://www.rivingtoncdd.org/calendar/8324336/public-hearing-
 aug-2025
DTSTART:20250827T153000Z
DTEND:20250827T163000Z
ATTACH;FILENAME=2025-08-27 RIVINGTON CDD REVISED AGENDA PACKAGE (1).pdf;FMT
 TYPE=application/pdf:https://campussuite-storage.s3.amazonaws.com/prod/155
 9088/c4df0418-3107-11ec-897a-02f95f1c9203/2999641/8a1634c0-8354-11f0-b014-
 02efef4a7877/file/2025-08-27 RIVINGTON CDD REVISED AGENDA PACKAGE (1).pdf
END:VEVENT
END:VCALENDAR
