BEGIN:VCALENDAR
VERSION:2.0
PRODID:SchoolNow
CALSCALE:GREGORIAN
BEGIN:VEVENT
UID:39fe47e2-63d5-11ef-9028-0e2183b15417
DTSTAMP:20250917T165541Z
SUMMARY:CDD Board Meeting - Sept. 2025 - Cancelled
LOCATION:Rivington Recreation Center 833 Terrapin Drive DeBary\, FL 32713
URL;VALUE=URI:https://www.rivingtoncdd.org/calendar/6463437/cdd-board-meeti
 ng-sept-2025
DTSTART:20250924T153000Z
DTEND:20250924T163000Z
END:VEVENT
END:VCALENDAR
