BEGIN:VCALENDAR
VERSION:2.0
PRODID:SchoolNow
CALSCALE:GREGORIAN
BEGIN:VEVENT
UID:fd30d1ae-63d4-11ef-9a95-0e9990db696b
DTSTAMP:20250723T200400Z
SUMMARY:CDD Board Meeting - Jul. 2025
LOCATION:Rivington Recreation Center 833 Terrapin Drive DeBary\, FL 32713
URL;VALUE=URI:https://www.rivingtoncdd.org/calendar/6463436/cdd-board-meeti
 ng-jul-2025
DTSTART:20250730T153000Z
DTEND:20250730T163000Z
ATTACH;FILENAME=2025-07-30 RIVINGTON CDD AGENDA PACKAGE.pdf;FMTTYPE=applica
 tion/pdf:https://campussuite-storage.s3.amazonaws.com/prod/1559088/c4df041
 8-3107-11ec-897a-02f95f1c9203/2984871/1896eafc-6800-11f0-bc10-0a58a9feac02
 /file/2025-07-30 RIVINGTON CDD AGENDA PACKAGE.pdf
END:VEVENT
END:VCALENDAR
