BEGIN:VCALENDAR
VERSION:2.0
PRODID:SchoolNow
CALSCALE:GREGORIAN
BEGIN:VEVENT
UID:f0f96158-63d4-11ef-b006-0e8c8d6f9313
DTSTAMP:20250527T204915Z
SUMMARY:CDD Board Meeting - May 2025
LOCATION:Rivington Recreation Center 833 Terrapin Drive DeBary\, FL 32713
URL;VALUE=URI:https://www.rivingtoncdd.org/calendar/6463435/cdd-board-meeti
 ng-may-2025
DTSTART:20250528T153000Z
DTEND:20250528T163000Z
ATTACH;FILENAME=2025-05-28 Rivington CDD Agenda Package.pdf;FMTTYPE=applica
 tion/pdf:https://campussuite-storage.s3.amazonaws.com/prod/1559088/c4df041
 8-3107-11ec-897a-02f95f1c9203/2960567/0885096e-3b3c-11f0-9e31-0a58a9feac02
 /file/2025-05-28 Rivington CDD Agenda Package.pdf
END:VEVENT
END:VCALENDAR
