BEGIN:VCALENDAR
VERSION:2.0
PRODID:SchoolNow
CALSCALE:GREGORIAN
BEGIN:VEVENT
UID:e67ea8f0-63d4-11ef-9d07-0e4beb05e9dd
DTSTAMP:20250326T095755Z
SUMMARY:CDD Board Meeting - Mar. 2025
LOCATION:Rivington Recreation Center 833 Terrapin Drive DeBary\, FL 32713
URL;VALUE=URI:https://www.rivingtoncdd.org/calendar/6463434/cdd-board-meeti
 ng-mar-2025
DTSTART:20250326T153000Z
DTEND:20250326T163000Z
ATTACH;FILENAME=2025-03-26 Final - Rivington CDD Agenda Package.pdf;FMTTYPE
 =application/pdf:https://campussuite-storage.s3.amazonaws.com/prod/1559088
 /c4df0418-3107-11ec-897a-02f95f1c9203/2932456/c138c148-0a28-11f0-afac-0e99
 9a67da95/file/2025-03-26 Final - Rivington CDD Agenda Package.pdf
END:VEVENT
END:VCALENDAR
